BEGIN:VCALENDAR
VERSION:2.0
PRODID:-//LWV of Hamptons, Shelter Island, North Fork - ECPv6.15.20//NONSGML v1.0//EN
CALSCALE:GREGORIAN
METHOD:PUBLISH
X-WR-CALNAME:LWV of Hamptons, Shelter Island, North Fork
X-ORIGINAL-URL:https://lwvhsinf.org
X-WR-CALDESC:Events for LWV of Hamptons, Shelter Island, North Fork
REFRESH-INTERVAL;VALUE=DURATION:PT1H
X-Robots-Tag:noindex
X-PUBLISHED-TTL:PT1H
BEGIN:VTIMEZONE
TZID:America/New_York
BEGIN:DAYLIGHT
TZOFFSETFROM:-0500
TZOFFSETTO:-0400
TZNAME:EDT
DTSTART:20250309T070000
END:DAYLIGHT
BEGIN:STANDARD
TZOFFSETFROM:-0400
TZOFFSETTO:-0500
TZNAME:EST
DTSTART:20251102T060000
END:STANDARD
BEGIN:DAYLIGHT
TZOFFSETFROM:-0500
TZOFFSETTO:-0400
TZNAME:EDT
DTSTART:20260308T070000
END:DAYLIGHT
BEGIN:STANDARD
TZOFFSETFROM:-0400
TZOFFSETTO:-0500
TZNAME:EST
DTSTART:20261101T060000
END:STANDARD
BEGIN:DAYLIGHT
TZOFFSETFROM:-0500
TZOFFSETTO:-0400
TZNAME:EDT
DTSTART:20270314T070000
END:DAYLIGHT
BEGIN:STANDARD
TZOFFSETFROM:-0400
TZOFFSETTO:-0500
TZNAME:EST
DTSTART:20271107T060000
END:STANDARD
END:VTIMEZONE
BEGIN:VEVENT
DTSTART;TZID=America/New_York:20260305T170000
DTEND;TZID=America/New_York:20260305T190000
DTSTAMP:20260421T024942
CREATED:20260301T210116Z
LAST-MODIFIED:20260301T210116Z
UID:4245-1772730000-1772737200@lwvhsinf.org
SUMMARY:Member Gathering
DESCRIPTION:Members and prospective members on the North Fork and Shelter Island are invited to attend a member gathering at Peconic Landing.  We will discuss the history of the League\, what we’re doing and how to get involved.  It will be a opportunity to meet with other members and become more involved in our activities.
URL:https://lwvhsinf.org/event/member-gathering/
LOCATION:Peconic Landing
END:VEVENT
BEGIN:VEVENT
DTSTART;TZID=America/New_York:20260311T120000
DTEND;TZID=America/New_York:20260311T140000
DTSTAMP:20260421T024942
CREATED:20260301T205050Z
LAST-MODIFIED:20260301T205050Z
UID:4241-1773230400-1773237600@lwvhsinf.org
SUMMARY:Beat The Winter Blahs Luncheon
DESCRIPTION:Beat the Winter Blahs by joining us at the Beat the Winter Blahs Luncheon at the Candy Kitchen in Bridgehampton.  The fee is $55 and checks may be sent in advance to the League of Women Voters; P. O. Box 2253; East Hampton\, NY 11937.
URL:https://lwvhsinf.org/event/beat-the-winter-blahs-luncheon/
LOCATION:Candy Kitchen\, Montauk Highway\, Bridgehampton\, 11932\, United States
END:VEVENT
BEGIN:VEVENT
DTSTART;TZID=America/New_York:20260330T183000
DTEND;TZID=America/New_York:20260330T203000
DTSTAMP:20260421T024942
CREATED:20260315T203033Z
LAST-MODIFIED:20260327T192405Z
UID:4249-1774895400-1774902600@lwvhsinf.org
SUMMARY:Serving Your Town Advisory Committee - POSTPONED TO APRIL 27TH
DESCRIPTION:The community is invited to a presentation by members of the League who serve on town advisory committees.  They will discuss the role of these committee and how to get involved.
URL:https://lwvhsinf.org/event/serving-your-town-advisory-committee/
LOCATION:East Hampton Library
END:VEVENT
END:VCALENDAR