BEGIN:VCALENDAR
VERSION:2.0
PRODID:-//LWV of Hamptons, Shelter Island, North Fork - ECPv6.15.20//NONSGML v1.0//EN
CALSCALE:GREGORIAN
METHOD:PUBLISH
X-WR-CALNAME:LWV of Hamptons, Shelter Island, North Fork
X-ORIGINAL-URL:https://lwvhsinf.org
X-WR-CALDESC:Events for LWV of Hamptons, Shelter Island, North Fork
REFRESH-INTERVAL;VALUE=DURATION:PT1H
X-Robots-Tag:noindex
X-PUBLISHED-TTL:PT1H
BEGIN:VTIMEZONE
TZID:America/New_York
BEGIN:DAYLIGHT
TZOFFSETFROM:-0500
TZOFFSETTO:-0400
TZNAME:EDT
DTSTART:20210314T070000
END:DAYLIGHT
BEGIN:STANDARD
TZOFFSETFROM:-0400
TZOFFSETTO:-0500
TZNAME:EST
DTSTART:20211107T060000
END:STANDARD
BEGIN:DAYLIGHT
TZOFFSETFROM:-0500
TZOFFSETTO:-0400
TZNAME:EDT
DTSTART:20220313T070000
END:DAYLIGHT
BEGIN:STANDARD
TZOFFSETFROM:-0400
TZOFFSETTO:-0500
TZNAME:EST
DTSTART:20221106T060000
END:STANDARD
BEGIN:DAYLIGHT
TZOFFSETFROM:-0500
TZOFFSETTO:-0400
TZNAME:EDT
DTSTART:20230312T070000
END:DAYLIGHT
BEGIN:STANDARD
TZOFFSETFROM:-0400
TZOFFSETTO:-0500
TZNAME:EST
DTSTART:20231105T060000
END:STANDARD
END:VTIMEZONE
BEGIN:VEVENT
DTSTART;TZID=America/New_York:20221207T160000
DTEND;TZID=America/New_York:20221207T180000
DTSTAMP:20260425T072024
CREATED:20221130T212037Z
LAST-MODIFIED:20221130T212037Z
UID:3385-1670428800-1670436000@lwvhsinf.org
SUMMARY:LWVH/SI/NF Board Meeting
DESCRIPTION:The LWVH/SI/NF Board will meet by Zoom on Wednesday\, December 7th at 4 PM.  Zoom info to be sent to Board members.
URL:https://lwvhsinf.org/event/lwvh-si-nf-board-meeting-3/
END:VEVENT
BEGIN:VEVENT
DTSTART;TZID=America/New_York:20221213T170000
DTEND;TZID=America/New_York:20221213T180000
DTSTAMP:20260425T072024
CREATED:20221130T213548Z
LAST-MODIFIED:20221130T213548Z
UID:3391-1670950800-1670954400@lwvhsinf.org
SUMMARY:Holiday Party
DESCRIPTION:The LWVH/SI/NF will be hosting a holiday party on Tuesday\, December 13th from 5-7 PM at the Unitarian Universalist Congregation on the Bridgehampton-Sag Harbor Turnpike.  Join us to enjoy good food\, drink and company and to participate in our silent auction.  There is no charge but a donation is suggested to the Unitarian Universalist Congregation of the North Fork Little Food Pantry.
URL:https://lwvhsinf.org/event/holiday-party/
LOCATION:Unitarian Universalist Congregation\, 977 Bridgehampton-Sag Harbor Turnpike\, Bridgehampton\, NY 11932
END:VEVENT
END:VCALENDAR