BEGIN:VCALENDAR
VERSION:2.0
PRODID:-//LWV of Hamptons, Shelter Island, North Fork - ECPv6.15.20//NONSGML v1.0//EN
CALSCALE:GREGORIAN
METHOD:PUBLISH
X-WR-CALNAME:LWV of Hamptons, Shelter Island, North Fork
X-ORIGINAL-URL:https://lwvhsinf.org
X-WR-CALDESC:Events for LWV of Hamptons, Shelter Island, North Fork
REFRESH-INTERVAL;VALUE=DURATION:PT1H
X-Robots-Tag:noindex
X-PUBLISHED-TTL:PT1H
BEGIN:VTIMEZONE
TZID:America/New_York
BEGIN:DAYLIGHT
TZOFFSETFROM:-0500
TZOFFSETTO:-0400
TZNAME:EDT
DTSTART:20210314T070000
END:DAYLIGHT
BEGIN:STANDARD
TZOFFSETFROM:-0400
TZOFFSETTO:-0500
TZNAME:EST
DTSTART:20211107T060000
END:STANDARD
BEGIN:DAYLIGHT
TZOFFSETFROM:-0500
TZOFFSETTO:-0400
TZNAME:EDT
DTSTART:20220313T070000
END:DAYLIGHT
BEGIN:STANDARD
TZOFFSETFROM:-0400
TZOFFSETTO:-0500
TZNAME:EST
DTSTART:20221106T060000
END:STANDARD
BEGIN:DAYLIGHT
TZOFFSETFROM:-0500
TZOFFSETTO:-0400
TZNAME:EDT
DTSTART:20230312T070000
END:DAYLIGHT
BEGIN:STANDARD
TZOFFSETFROM:-0400
TZOFFSETTO:-0500
TZNAME:EST
DTSTART:20231105T060000
END:STANDARD
END:VTIMEZONE
BEGIN:VEVENT
DTSTART;TZID=America/New_York:20220803T140000
DTEND;TZID=America/New_York:20220803T160000
DTSTAMP:20260425T103709
CREATED:20220615T184933Z
LAST-MODIFIED:20220615T184933Z
UID:3067-1659535200-1659542400@lwvhsinf.org
SUMMARY:LWVH/SI/NF Board Meeting
DESCRIPTION:August Board meeting
URL:https://lwvhsinf.org/event/lwvh-si-nf-board-meeting/
END:VEVENT
BEGIN:VEVENT
DTSTART;TZID=America/New_York:20220808T190000
DTEND;TZID=America/New_York:20220808T200000
DTSTAMP:20260425T103709
CREATED:20220729T181039Z
LAST-MODIFIED:20220729T181039Z
UID:3160-1659985200-1659988800@lwvhsinf.org
SUMMARY:Republican Congressional Primary Debate
DESCRIPTION:The League of Women Voters of the Hamptons\, Shelter Island and the North Fork will be holding a Republican Congressional Primary Debate via Zoom for the candidates vying to be the Republican candidate in the November election for Congressperson from the newly drawn 1st Congressional District.  The candidates are Michele Bond\, Anthony Figliola and Nicholas LaLota. The debate can be viewed live at 7 p.m. on August 8 at www.YouTube.com/c/SeaTVSouthampton and a recording of the debate may be viewed on that YouTube channel starting on August 9th.
URL:https://lwvhsinf.org/event/republican-congressional-primary-debate/
END:VEVENT
END:VCALENDAR