BEGIN:VCALENDAR
VERSION:2.0
PRODID:-//LWV of Hamptons, Shelter Island, North Fork - ECPv6.15.20//NONSGML v1.0//EN
CALSCALE:GREGORIAN
METHOD:PUBLISH
X-WR-CALNAME:LWV of Hamptons, Shelter Island, North Fork
X-ORIGINAL-URL:https://lwvhsinf.org
X-WR-CALDESC:Events for LWV of Hamptons, Shelter Island, North Fork
REFRESH-INTERVAL;VALUE=DURATION:PT1H
X-Robots-Tag:noindex
X-PUBLISHED-TTL:PT1H
BEGIN:VTIMEZONE
TZID:America/New_York
BEGIN:DAYLIGHT
TZOFFSETFROM:-0500
TZOFFSETTO:-0400
TZNAME:EDT
DTSTART:20210314T070000
END:DAYLIGHT
BEGIN:STANDARD
TZOFFSETFROM:-0400
TZOFFSETTO:-0500
TZNAME:EST
DTSTART:20211107T060000
END:STANDARD
BEGIN:DAYLIGHT
TZOFFSETFROM:-0500
TZOFFSETTO:-0400
TZNAME:EDT
DTSTART:20220313T070000
END:DAYLIGHT
BEGIN:STANDARD
TZOFFSETFROM:-0400
TZOFFSETTO:-0500
TZNAME:EST
DTSTART:20221106T060000
END:STANDARD
BEGIN:DAYLIGHT
TZOFFSETFROM:-0500
TZOFFSETTO:-0400
TZNAME:EDT
DTSTART:20230312T070000
END:DAYLIGHT
BEGIN:STANDARD
TZOFFSETFROM:-0400
TZOFFSETTO:-0500
TZNAME:EST
DTSTART:20231105T060000
END:STANDARD
END:VTIMEZONE
BEGIN:VEVENT
DTSTART;TZID=America/New_York:20220411T160000
DTEND;TZID=America/New_York:20220411T180000
DTSTAMP:20260425T162048
CREATED:20220310T215801Z
LAST-MODIFIED:20220310T234509Z
UID:3006-1649692800-1649700000@lwvhsinf.org
SUMMARY:Educational Presentation on Concurrence Topics
DESCRIPTION:ZOOM EDUCATIONAL PRESENTATION ON CONCURRENCE TOPICS \nMonday\, April 11th at 4:00 p.m. \n\nElection Administration Study:  Election Administration Structure Study Materials\nVoting While Incarcerated Study:  Study Materials for the Vote for Incarcerated Felons\n\n  \n 
URL:https://lwvhsinf.org/event/educational-presentation-on-concurrence-topics/
END:VEVENT
BEGIN:VEVENT
DTSTART;TZID=America/New_York:20220414T160000
DTEND;TZID=America/New_York:20220414T180000
DTSTAMP:20260425T162048
CREATED:20220310T221217Z
LAST-MODIFIED:20220310T234358Z
UID:3008-1649952000-1649959200@lwvhsinf.org
SUMMARY:Member Vote on Approval of Concurrence Topics
DESCRIPTION:ZOOM MEMBER VOTE ON APPROVAL OF CONCURRENCE TOPICS \nThursday\, April 14th at 4:00 p.m. \n\nElection Administration Study:  Election Administration Structure Study Materials\nVoting While Incarcerated Study:  Study Materials for the Vote for Incarcerated Felons
URL:https://lwvhsinf.org/event/member-vote-on-approval-of-concurrence-topics/
END:VEVENT
END:VCALENDAR