BEGIN:VCALENDAR
VERSION:2.0
PRODID:-//LWV of Hamptons, Shelter Island, North Fork - ECPv6.15.20//NONSGML v1.0//EN
CALSCALE:GREGORIAN
METHOD:PUBLISH
X-WR-CALNAME:LWV of Hamptons, Shelter Island, North Fork
X-ORIGINAL-URL:https://lwvhsinf.org
X-WR-CALDESC:Events for LWV of Hamptons, Shelter Island, North Fork
REFRESH-INTERVAL;VALUE=DURATION:PT1H
X-Robots-Tag:noindex
X-PUBLISHED-TTL:PT1H
BEGIN:VTIMEZONE
TZID:America/New_York
BEGIN:DAYLIGHT
TZOFFSETFROM:-0500
TZOFFSETTO:-0400
TZNAME:EDT
DTSTART:20210314T070000
END:DAYLIGHT
BEGIN:STANDARD
TZOFFSETFROM:-0400
TZOFFSETTO:-0500
TZNAME:EST
DTSTART:20211107T060000
END:STANDARD
BEGIN:DAYLIGHT
TZOFFSETFROM:-0500
TZOFFSETTO:-0400
TZNAME:EDT
DTSTART:20220313T070000
END:DAYLIGHT
BEGIN:STANDARD
TZOFFSETFROM:-0400
TZOFFSETTO:-0500
TZNAME:EST
DTSTART:20221106T060000
END:STANDARD
BEGIN:DAYLIGHT
TZOFFSETFROM:-0500
TZOFFSETTO:-0400
TZNAME:EDT
DTSTART:20230312T070000
END:DAYLIGHT
BEGIN:STANDARD
TZOFFSETFROM:-0400
TZOFFSETTO:-0500
TZNAME:EST
DTSTART:20231105T060000
END:STANDARD
END:VTIMEZONE
BEGIN:VEVENT
DTSTART;TZID=America/New_York:20220105T140000
DTEND;TZID=America/New_York:20220105T140000
DTSTAMP:20260425T203604
CREATED:20211128T192448Z
LAST-MODIFIED:20211203T005212Z
UID:2845-1641391200-1641391200@lwvhsinf.org
SUMMARY:ZOOM Board Meeting; Observers Welcome
DESCRIPTION:
URL:https://lwvhsinf.org/event/zoom-lwvh-si-nf-board-meeting-observers-welcome-2/
END:VEVENT
BEGIN:VEVENT
DTSTART;TZID=America/New_York:20220131T140000
DTEND;TZID=America/New_York:20220131T163000
DTSTAMP:20260425T203604
CREATED:20220129T222733Z
LAST-MODIFIED:20220130T145041Z
UID:2958-1643637600-1643646600@lwvhsinf.org
SUMMARY:Program Planning Meeting
DESCRIPTION:PROGRAM PLANNING MEETING \nDon’t forget to join us in planning our program for the coming year. \nMonday\, January 31 at 2:00 pm \nJoin Zoom Meeting \nhttps://us02web.zoom.us/j/81928834908?pwd=SDFmdkx2aW5lM0R3OExvWi8zMmFUQT09 \nPasscode: 533549 \nOne tap mobile \n+13017158592\,\,81928834908#\,\,\,\,*533549# US (Washington DC) \n+13126266799\,\,81928834908#\,\,\,\,*533549# US (Chicago) \nDial by your location \n+1 301 715 8592 US (Washington DC) \n+1 312 626 6799 US (Chicago) \n+1 929 205 6099 US (New York) \n+1 253 215 8782 US (Tacoma) \n+1 346 248 7799 US (Houston) \n+1 669 900 6833 US (San Jose) \n 
URL:https://lwvhsinf.org/event/program-planning-meeting/
END:VEVENT
END:VCALENDAR